BEGIN:VCALENDAR
VERSION:2.0
PRODID:-//Memorial Road Church of Christ - ECPv6.15.20//NONSGML v1.0//EN
CALSCALE:GREGORIAN
METHOD:PUBLISH
X-WR-CALNAME:Memorial Road Church of Christ
X-ORIGINAL-URL:https://www.mrcc.org
X-WR-CALDESC:Events for Memorial Road Church of Christ
REFRESH-INTERVAL;VALUE=DURATION:PT1H
X-Robots-Tag:noindex
X-PUBLISHED-TTL:PT1H
BEGIN:VTIMEZONE
TZID:America/Chicago
BEGIN:DAYLIGHT
TZOFFSETFROM:-0600
TZOFFSETTO:-0500
TZNAME:CDT
DTSTART:20250309T080000
END:DAYLIGHT
BEGIN:STANDARD
TZOFFSETFROM:-0500
TZOFFSETTO:-0600
TZNAME:CST
DTSTART:20251102T070000
END:STANDARD
BEGIN:DAYLIGHT
TZOFFSETFROM:-0600
TZOFFSETTO:-0500
TZNAME:CDT
DTSTART:20260308T080000
END:DAYLIGHT
BEGIN:STANDARD
TZOFFSETFROM:-0500
TZOFFSETTO:-0600
TZNAME:CST
DTSTART:20261101T070000
END:STANDARD
BEGIN:DAYLIGHT
TZOFFSETFROM:-0600
TZOFFSETTO:-0500
TZNAME:CDT
DTSTART:20270314T080000
END:DAYLIGHT
BEGIN:STANDARD
TZOFFSETFROM:-0500
TZOFFSETTO:-0600
TZNAME:CST
DTSTART:20271107T070000
END:STANDARD
END:VTIMEZONE
BEGIN:VEVENT
DTSTART;TZID=America/Chicago:20260414T183000
DTEND;TZID=America/Chicago:20260414T193000
DTSTAMP:20260422T041016
CREATED:20260213T043452Z
LAST-MODIFIED:20260213T043452Z
UID:34673-1776191400-1776195000@www.mrcc.org
SUMMARY:Broken and Mended Chronic Pain Support Group
DESCRIPTION:Broken and Mended is a support group for any adults who live with chronic pain due to arthritis\, auto-immune conditions\, severe back pain\, or other health issues.  Our group’s purpose is to provide encouragement\, education\, and hope for MRCC and community members facing daily pain challenges.  \nBroken and Mended will offer our first informative meeting on Tuesday March 10 to gather interested folks to talk more about about this program.  We will then meet monthly on the second Tuesday from 6:30-7:30 PM in room A106. \nThis group  is led by Dennis Myrick\, a trained facilitator who experiences chronic pain.  We will use guided studies as well as host occasional guest speakers about resources that may be helpful. \nWhile we will be sharing our pain struggles\, our goal is for everyone to leave our support group meetings with a sense of support and encouragement. \nPlease pre-register and submit any questions here \nRomans 12:12 “Be joyful in hope\, patient in affliction\, faithful in prayer.”
URL:https://www.mrcc.org/event/broken-and-mended-chronic-pain-support-group/2026-04-14/
CATEGORIES:Care & Counseling
ATTACH;FMTTYPE=image/jpeg:https://www.mrcc.org/wp-content/uploads/2026/02/IMG_9927.jpg
END:VEVENT
BEGIN:VEVENT
DTSTART;TZID=America/Chicago:20260310T183000
DTEND;TZID=America/Chicago:20260310T193000
DTSTAMP:20260422T041016
CREATED:20260213T043452Z
LAST-MODIFIED:20260306T173553Z
UID:34400-1773167400-1773171000@www.mrcc.org
SUMMARY:Broken and Mended Chronic Pain Support Group
DESCRIPTION:Broken and Mended is a support group for any adults who live with chronic pain due to arthritis\, auto-immune conditions\, severe back pain\, or other health issues.  Our group’s purpose is to provide encouragement\, education\, and hope for MRCC and community members facing daily pain challenges.  \nBroken and Mended will offer our first informative meeting on Tuesday March 10 to gather interested folks to talk more about about this program.  We will then meet monthly on the second Tuesday from 6:30-7:30 PM in room A106. \nThis group  is led by Dennis Myrick\, a trained facilitator who experiences chronic pain.  We will use guided studies as well as host occasional guest speakers about resources that may be helpful. \nWhile we will be sharing our pain struggles\, our goal is for everyone to leave our support group meetings with a sense of support and encouragement. \nPlease pre-register and submit any questions here \nRomans 12:12 “Be joyful in hope\, patient in affliction\, faithful in prayer.”
URL:https://www.mrcc.org/event/broken-and-mended-chronic-pain-support-group/2026-03-10/
CATEGORIES:Care & Counseling
ATTACH;FMTTYPE=image/jpeg:https://www.mrcc.org/wp-content/uploads/2026/02/IMG_9927.jpg
END:VEVENT
END:VCALENDAR